BEGIN:VCALENDAR
PRODID:-//github.com/rianjs/ical.net//NONSGML ical.net 4.0//EN
VERSION:2.0
BEGIN:VEVENT
DESCRIPTION:The chairlift is open every Saturday this summer. - A perfect 
 starting point for nice trips in the mountains.
DTEND:20250809T150000
DTSTAMP:20260421T102811Z
DTSTART:20250809T093000
SEQUENCE:0
SUMMARY:Stolheisen er åpen hver lørdag i sommer
UID:b3b158aa-72e9-49f2-93a8-4f47606a747d
END:VEVENT
END:VCALENDAR
