BEGIN:VCALENDAR
PRODID:-//github.com/rianjs/ical.net//NONSGML ical.net 4.0//EN
VERSION:2.0
BEGIN:VEVENT
DESCRIPTION:The chairlift is open every Saturday this summer. - A perfect 
 starting point for nice trips in the mountains.
DTEND:20241004T150000
DTSTAMP:20260422T000105Z
DTSTART:20241004T093000
SEQUENCE:0
SUMMARY:Stolheisen er åpen hver lørdag i sommer
UID:93324e09-a1ab-47c1-b284-5b37b674ffd7
END:VEVENT
END:VCALENDAR
